BEGIN:VCALENDAR
VERSION:2.0
PRODID:-//Men&#039;s Room Hastings &amp; St Leonards - ECPv6.10.2//NONSGML v1.0//EN
CALSCALE:GREGORIAN
METHOD:PUBLISH
X-ORIGINAL-URL:https://mensroom.community
X-WR-CALDESC:Events for Men&#039;s Room Hastings &amp; St Leonards
REFRESH-INTERVAL;VALUE=DURATION:PT1H
X-Robots-Tag:noindex
X-PUBLISHED-TTL:PT1H
BEGIN:VTIMEZONE
TZID:Europe/London
BEGIN:DAYLIGHT
TZOFFSETFROM:+0000
TZOFFSETTO:+0100
TZNAME:BST
DTSTART:20250330T010000
END:DAYLIGHT
BEGIN:STANDARD
TZOFFSETFROM:+0100
TZOFFSETTO:+0000
TZNAME:GMT
DTSTART:20251026T010000
END:STANDARD
END:VTIMEZONE
BEGIN:VEVENT
DTSTART;TZID=Europe/London:20250724T180000
DTEND;TZID=Europe/London:20250724T200000
DTSTAMP:20260420T055548
CREATED:20250421T183000Z
LAST-MODIFIED:20250421T183000Z
UID:77126-1753380000-1753387200@mensroom.community
SUMMARY:Baton of Hope Community Meeting
DESCRIPTION:The Baton’s arrival in Hastings is more than an event—it’s a call to action for our community to champion hope\, understanding\, and change. Let’s work together to make this moment impactful and meaningful for everyone involved.
URL:https://mensroom.community/event/baton-of-hope-community-meeting-7/
LOCATION:Central Hall\, 6\, Bank Buildings\, Station Rd\, Hastings\, East Sussex\, TN34 1NG\, United Kingdom
CATEGORIES:Community Event
ATTACH;FMTTYPE=image/png:https://mensroom.community/wp-content/uploads/2025/04/batonevent-header-KQMbf6.png
END:VEVENT
BEGIN:VEVENT
DTSTART;TZID=Europe/London:20250710T180000
DTEND;TZID=Europe/London:20250710T200000
DTSTAMP:20260420T055548
CREATED:20250421T181143Z
LAST-MODIFIED:20250421T182946Z
UID:77088-1752170400-1752177600@mensroom.community
SUMMARY:Baton of Hope Community Meeting
DESCRIPTION:The Baton’s arrival in Hastings is more than an event—it’s a call to action for our community to champion hope\, understanding\, and change. Let’s work together to make this moment impactful and meaningful for everyone involved.
URL:https://mensroom.community/event/baton-of-hope-community-meeting-6/
LOCATION:Central Hall\, 6\, Bank Buildings\, Station Rd\, Hastings\, East Sussex\, TN34 1NG\, United Kingdom
CATEGORIES:Community Event
ATTACH;FMTTYPE=image/png:https://mensroom.community/wp-content/uploads/2025/04/batonevent-header-KQMbf6.png
END:VEVENT
BEGIN:VEVENT
DTSTART;TZID=Europe/London:20250626T180000
DTEND;TZID=Europe/London:20250626T200000
DTSTAMP:20260420T055548
CREATED:20250421T181130Z
LAST-MODIFIED:20250421T182930Z
UID:77084-1750960800-1750968000@mensroom.community
SUMMARY:Baton of Hope Community Meeting
DESCRIPTION:The Baton’s arrival in Hastings is more than an event—it’s a call to action for our community to champion hope\, understanding\, and change. Let’s work together to make this moment impactful and meaningful for everyone involved.
URL:https://mensroom.community/event/baton-of-hope-community-meeting-5/
LOCATION:Central Hall\, 6\, Bank Buildings\, Station Rd\, Hastings\, East Sussex\, TN34 1NG\, United Kingdom
CATEGORIES:Community Event
ATTACH;FMTTYPE=image/png:https://mensroom.community/wp-content/uploads/2025/04/batonevent-header-KQMbf6.png
END:VEVENT
BEGIN:VEVENT
DTSTART;TZID=Europe/London:20250612T180000
DTEND;TZID=Europe/London:20250612T200000
DTSTAMP:20260420T055548
CREATED:20250421T181109Z
LAST-MODIFIED:20250421T182917Z
UID:77075-1749751200-1749758400@mensroom.community
SUMMARY:Baton of Hope Community Meeting
DESCRIPTION:The Baton’s arrival in Hastings is more than an event—it’s a call to action for our community to champion hope\, understanding\, and change. Let’s work together to make this moment impactful and meaningful for everyone involved.
URL:https://mensroom.community/event/baton-of-hope-community-meeting-4/
LOCATION:Central Hall\, 6\, Bank Buildings\, Station Rd\, Hastings\, East Sussex\, TN34 1NG\, United Kingdom
CATEGORIES:Community Event
ATTACH;FMTTYPE=image/png:https://mensroom.community/wp-content/uploads/2025/04/batonevent-header-KQMbf6.png
END:VEVENT
BEGIN:VEVENT
DTSTART;TZID=Europe/London:20250529T180000
DTEND;TZID=Europe/London:20250529T200000
DTSTAMP:20260420T055548
CREATED:20250421T181054Z
LAST-MODIFIED:20250421T182900Z
UID:77068-1748541600-1748548800@mensroom.community
SUMMARY:Baton of Hope Community Meeting
DESCRIPTION:The Baton’s arrival in Hastings is more than an event—it’s a call to action for our community to champion hope\, understanding\, and change. Let’s work together to make this moment impactful and meaningful for everyone involved.
URL:https://mensroom.community/event/baton-of-hope-community-meeting-3/
LOCATION:Central Hall\, 6\, Bank Buildings\, Station Rd\, Hastings\, East Sussex\, TN34 1NG\, United Kingdom
CATEGORIES:Community Event
ATTACH;FMTTYPE=image/png:https://mensroom.community/wp-content/uploads/2025/04/batonevent-header-KQMbf6.png
END:VEVENT
BEGIN:VEVENT
DTSTART;TZID=Europe/London:20250515T180000
DTEND;TZID=Europe/London:20250515T200000
DTSTAMP:20260420T055548
CREATED:20250421T181040Z
LAST-MODIFIED:20250421T182849Z
UID:77062-1747332000-1747339200@mensroom.community
SUMMARY:Baton of Hope Community Meeting
DESCRIPTION:The Baton’s arrival in Hastings is more than an event—it’s a call to action for our community to champion hope\, understanding\, and change. Let’s work together to make this moment impactful and meaningful for everyone involved.
URL:https://mensroom.community/event/baton-of-hope-community-meeting-2/
LOCATION:Central Hall\, 6\, Bank Buildings\, Station Rd\, Hastings\, East Sussex\, TN34 1NG\, United Kingdom
CATEGORIES:Community Event
ATTACH;FMTTYPE=image/png:https://mensroom.community/wp-content/uploads/2025/04/batonevent-header-KQMbf6.png
END:VEVENT
BEGIN:VEVENT
DTSTART;TZID=Europe/London:20250501T180000
DTEND;TZID=Europe/London:20250501T200000
DTSTAMP:20260420T055548
CREATED:20250421T181030Z
LAST-MODIFIED:20250421T182840Z
UID:77055-1746122400-1746129600@mensroom.community
SUMMARY:Baton of Hope Community Meeting
DESCRIPTION:The Baton’s arrival in Hastings is more than an event—it’s a call to action for our community to champion hope\, understanding\, and change. Let’s work together to make this moment impactful and meaningful for everyone involved.
URL:https://mensroom.community/event/baton-of-hope-community-meeting/
LOCATION:Central Hall\, 6\, Bank Buildings\, Station Rd\, Hastings\, East Sussex\, TN34 1NG\, United Kingdom
CATEGORIES:Community Event
ATTACH;FMTTYPE=image/png:https://mensroom.community/wp-content/uploads/2025/04/batonevent-header-KQMbf6.png
END:VEVENT
END:VCALENDAR