BEGIN:VCALENDAR
VERSION:2.0
PRODID:-//Men&#039;s Room Hastings &amp; St Leonards - ECPv6.10.2//NONSGML v1.0//EN
CALSCALE:GREGORIAN
METHOD:PUBLISH
X-WR-CALNAME:Men&#039;s Room Hastings &amp; St Leonards
X-ORIGINAL-URL:https://mensroom.community
X-WR-CALDESC:Events for Men&#039;s Room Hastings &amp; St Leonards
REFRESH-INTERVAL;VALUE=DURATION:PT1H
X-Robots-Tag:noindex
X-PUBLISHED-TTL:PT1H
BEGIN:VTIMEZONE
TZID:Europe/London
BEGIN:DAYLIGHT
TZOFFSETFROM:+0000
TZOFFSETTO:+0100
TZNAME:BST
DTSTART:20250330T010000
END:DAYLIGHT
BEGIN:STANDARD
TZOFFSETFROM:+0100
TZOFFSETTO:+0000
TZNAME:GMT
DTSTART:20251026T010000
END:STANDARD
END:VTIMEZONE
BEGIN:VEVENT
DTSTART;TZID=Europe/London:20250607T110000
DTEND;TZID=Europe/London:20250607T170000
DTSTAMP:20260420T060846
CREATED:20250421T181105Z
LAST-MODIFIED:20250421T185030Z
UID:77071-1749294000-1749315600@mensroom.community
SUMMARY:Little Gate Farm Summer Saturday
DESCRIPTION:🎫 Tickets available HERE \nPlease join us for a wonderful day of Summer fun including: \n🎸 Live Music from local musicians \n🍕 Food trucks & ice cream \n🍺 Bar serving alcoholic & soft drinks \n🎨 Local makers market \n💐 Little Gate Flowers stall \n🎪Children’s entertainment & crafts \n🏹 Have a go archery \n🎫 Raffle & tombola AND MUCH MORE! \nEntry is £2 per adult\, under 18s and Little Gate trainees go FREE. \nThere will also be a limited amount of tickets available on the gate but we highly recommend pre-booking! \nThere will be card payment facilities but some stalls will be cash payment only so please bring cash where possible. \nThere will be on-site field parking with a limited amount of blue badge spaces. \nWell-behaved dogs are welcome! \nThis years Summer Saturday Event is in collaboration with New Style Events who will be facilitating the Makers Market aspect of the event. \nAny questions regarding this please email jo-newstyleevents@hotmail.co.uk If you have any questions regarding any other aspect of this event then please email us at events@littlegate.org.uk \nA huge thank you to In Party Tents Co for supporting this event. \nWe hope to see you there and please do help us spread the word by sharing with your friends\, family and colleagues! 💫
URL:https://mensroom.community/event/little-gate-farm-summer-saturday/
LOCATION:Little Gate Farm\, Horseshoe Lane\, Rye\, East Sussex\, TN31 6RZ\, United Kingdom
CATEGORIES:Family Fun Day
ATTACH;FMTTYPE=image/png:https://mensroom.community/wp-content/uploads/2025/04/lgfevent-header-5Qr3RP.png
END:VEVENT
END:VCALENDAR