BEGIN:VCALENDAR
VERSION:2.0
PRODID:-//Men&#039;s Room Hastings &amp; St Leonards - ECPv6.10.2//NONSGML v1.0//EN
CALSCALE:GREGORIAN
METHOD:PUBLISH
X-WR-CALNAME:Men&#039;s Room Hastings &amp; St Leonards
X-ORIGINAL-URL:https://mensroom.community
X-WR-CALDESC:Events for Men&#039;s Room Hastings &amp; St Leonards
REFRESH-INTERVAL;VALUE=DURATION:PT1H
X-Robots-Tag:noindex
X-PUBLISHED-TTL:PT1H
BEGIN:VTIMEZONE
TZID:Europe/London
BEGIN:DAYLIGHT
TZOFFSETFROM:+0000
TZOFFSETTO:+0100
TZNAME:BST
DTSTART:20250330T010000
END:DAYLIGHT
BEGIN:STANDARD
TZOFFSETFROM:+0100
TZOFFSETTO:+0000
TZNAME:GMT
DTSTART:20251026T010000
END:STANDARD
END:VTIMEZONE
BEGIN:VEVENT
DTSTART;TZID=Europe/London:20250801T230000
DTEND;TZID=Europe/London:20250801T230000
DTSTAMP:20260420T062127
CREATED:20250310T223948Z
LAST-MODIFIED:20250421T183221Z
UID:76694-1754089200-1754089200@mensroom.community
SUMMARY:Karaoke @ Barnaby's Lounge
DESCRIPTION:Come and join the fun @ Barnaby’s Lounge!Select from some of your favourite tunes\, get up and sing your heart out!From 11pm – Late – Bring your favourite songs\, your voice & good vibes!
URL:https://mensroom.community/event/karaoke-barnabys-lounge-28/
LOCATION:Barnaby’s Lounge\, 46 Robertson Street\, Hastings\, East Sussex\, TN34 1HL\, United Kingdom
CATEGORIES:Music
ATTACH;FMTTYPE=image/jpeg:https://mensroom.community/wp-content/uploads/2025/04/karaoke-at-barnabys-poster-95700-768x531-4B5U2c.jpg
END:VEVENT
BEGIN:VEVENT
DTSTART;TZID=Europe/London:20250725T230000
DTEND;TZID=Europe/London:20250725T230000
DTSTAMP:20260420T062127
CREATED:20250310T222627Z
LAST-MODIFIED:20250421T183220Z
UID:76682-1753484400-1753484400@mensroom.community
SUMMARY:Karaoke @ Barnaby's Lounge
DESCRIPTION:Come and join the fun @ Barnaby’s Lounge!Select from some of your favourite tunes\, get up and sing your heart out!From 11pm – Late – Bring your favourite songs\, your voice & good vibes!
URL:https://mensroom.community/event/karaoke-barnabys-lounge-27/
LOCATION:Barnaby’s Lounge\, 46 Robertson Street\, Hastings\, East Sussex\, TN34 1HL\, United Kingdom
CATEGORIES:Music
ATTACH;FMTTYPE=image/jpeg:https://mensroom.community/wp-content/uploads/2025/04/karaoke-at-barnabys-poster-95700-768x531-4B5U2c.jpg
END:VEVENT
BEGIN:VEVENT
DTSTART;TZID=Europe/London:20250718T230000
DTEND;TZID=Europe/London:20250718T230000
DTSTAMP:20260420T062127
CREATED:20250310T222626Z
LAST-MODIFIED:20250421T183219Z
UID:76681-1752879600-1752879600@mensroom.community
SUMMARY:Karaoke @ Barnaby's Lounge
DESCRIPTION:Come and join the fun @ Barnaby’s Lounge!Select from some of your favourite tunes\, get up and sing your heart out!From 11pm – Late – Bring your favourite songs\, your voice & good vibes!
URL:https://mensroom.community/event/karaoke-barnabys-lounge-26/
LOCATION:Barnaby’s Lounge\, 46 Robertson Street\, Hastings\, East Sussex\, TN34 1HL\, United Kingdom
CATEGORIES:Music
ATTACH;FMTTYPE=image/jpeg:https://mensroom.community/wp-content/uploads/2025/04/karaoke-at-barnabys-poster-95700-768x531-4B5U2c.jpg
END:VEVENT
BEGIN:VEVENT
DTSTART;TZID=Europe/London:20250711T230000
DTEND;TZID=Europe/London:20250711T230000
DTSTAMP:20260420T062127
CREATED:20250310T222625Z
LAST-MODIFIED:20250421T183218Z
UID:76680-1752274800-1752274800@mensroom.community
SUMMARY:Karaoke @ Barnaby's Lounge
DESCRIPTION:Come and join the fun @ Barnaby’s Lounge!Select from some of your favourite tunes\, get up and sing your heart out!From 11pm – Late – Bring your favourite songs\, your voice & good vibes!
URL:https://mensroom.community/event/karaoke-barnabys-lounge-25/
LOCATION:Barnaby’s Lounge\, 46 Robertson Street\, Hastings\, East Sussex\, TN34 1HL\, United Kingdom
CATEGORIES:Music
ATTACH;FMTTYPE=image/jpeg:https://mensroom.community/wp-content/uploads/2025/04/karaoke-at-barnabys-poster-95700-768x531-4B5U2c.jpg
END:VEVENT
BEGIN:VEVENT
DTSTART;TZID=Europe/London:20250704T230000
DTEND;TZID=Europe/London:20250704T230000
DTSTAMP:20260420T062127
CREATED:20250310T222624Z
LAST-MODIFIED:20250421T183216Z
UID:76679-1751670000-1751670000@mensroom.community
SUMMARY:Karaoke @ Barnaby's Lounge
DESCRIPTION:Come and join the fun @ Barnaby’s Lounge!Select from some of your favourite tunes\, get up and sing your heart out!From 11pm – Late – Bring your favourite songs\, your voice & good vibes!
URL:https://mensroom.community/event/karaoke-barnabys-lounge-24/
LOCATION:Barnaby’s Lounge\, 46 Robertson Street\, Hastings\, East Sussex\, TN34 1HL\, United Kingdom
CATEGORIES:Music
ATTACH;FMTTYPE=image/jpeg:https://mensroom.community/wp-content/uploads/2025/04/karaoke-at-barnabys-poster-95700-768x531-4B5U2c.jpg
END:VEVENT
BEGIN:VEVENT
DTSTART;TZID=Europe/London:20250627T230000
DTEND;TZID=Europe/London:20250627T230000
DTSTAMP:20260420T062127
CREATED:20250310T222622Z
LAST-MODIFIED:20250421T183021Z
UID:76678-1751065200-1751065200@mensroom.community
SUMMARY:Karaoke @ Barnaby's Lounge
DESCRIPTION:Come and join the fun @ Barnaby’s Lounge!Select from some of your favourite tunes\, get up and sing your heart out!From 11pm – Late – Bring your favourite songs\, your voice & good vibes!
URL:https://mensroom.community/event/karaoke-barnabys-lounge-23/
LOCATION:Barnaby’s Lounge\, 46 Robertson Street\, Hastings\, East Sussex\, TN34 1HL\, United Kingdom
CATEGORIES:Music
ATTACH;FMTTYPE=image/jpeg:https://mensroom.community/wp-content/uploads/2025/03/fridaybarnabykaraoke-dfmozf.tmp_.jpg
END:VEVENT
BEGIN:VEVENT
DTSTART;TZID=Europe/London:20250620T230000
DTEND;TZID=Europe/London:20250620T230000
DTSTAMP:20260420T062127
CREATED:20250310T222554Z
LAST-MODIFIED:20250421T183021Z
UID:76673-1750460400-1750460400@mensroom.community
SUMMARY:Karaoke @ Barnaby's Lounge
DESCRIPTION:Come and join the fun @ Barnaby’s Lounge!Select from some of your favourite tunes\, get up and sing your heart out!From 11pm – Late – Bring your favourite songs\, your voice & good vibes!
URL:https://mensroom.community/event/karaoke-barnabys-lounge-22/
LOCATION:Barnaby’s Lounge\, 46 Robertson Street\, Hastings\, East Sussex\, TN34 1HL\, United Kingdom
CATEGORIES:Music
ATTACH;FMTTYPE=image/jpeg:https://mensroom.community/wp-content/uploads/2025/04/karaoke-at-barnabys-poster-95700-768x531-4B5U2c.jpg
END:VEVENT
BEGIN:VEVENT
DTSTART;TZID=Europe/London:20250613T230000
DTEND;TZID=Europe/London:20250613T230000
DTSTAMP:20260420T062127
CREATED:20250310T222553Z
LAST-MODIFIED:20250421T183020Z
UID:76672-1749855600-1749855600@mensroom.community
SUMMARY:Karaoke @ Barnaby's Lounge
DESCRIPTION:Come and join the fun @ Barnaby’s Lounge!Select from some of your favourite tunes\, get up and sing your heart out!From 11pm – Late – Bring your favourite songs\, your voice & good vibes!
URL:https://mensroom.community/event/karaoke-barnabys-lounge-21/
LOCATION:Barnaby’s Lounge\, 46 Robertson Street\, Hastings\, East Sussex\, TN34 1HL\, United Kingdom
CATEGORIES:Music
ATTACH;FMTTYPE=image/jpeg:https://mensroom.community/wp-content/uploads/2025/04/karaoke-at-barnabys-poster-95700-768x531-4B5U2c.jpg
END:VEVENT
BEGIN:VEVENT
DTSTART;TZID=Europe/London:20250606T230000
DTEND;TZID=Europe/London:20250606T230000
DTSTAMP:20260420T062127
CREATED:20250310T221943Z
LAST-MODIFIED:20250421T183020Z
UID:76644-1749250800-1749250800@mensroom.community
SUMMARY:Karaoke @ Barnaby's Lounge
DESCRIPTION:Come and join the fun @ Barnaby’s Lounge!Select from some of your favourite tunes\, get up and sing your heart out!From 11pm – Late – Bring your favourite songs\, your voice & good vibes!
URL:https://mensroom.community/event/karaoke-barnabys-lounge-7/
LOCATION:Barnaby’s Lounge\, 46 Robertson Street\, Hastings\, East Sussex\, TN34 1HL\, United Kingdom
CATEGORIES:Music
ATTACH;FMTTYPE=image/jpeg:https://mensroom.community/wp-content/uploads/2025/04/karaoke-at-barnabys-poster-95700-768x531-4B5U2c.jpg
END:VEVENT
BEGIN:VEVENT
DTSTART;TZID=Europe/London:20250530T230000
DTEND;TZID=Europe/London:20250530T230000
DTSTAMP:20260420T062127
CREATED:20250310T222551Z
LAST-MODIFIED:20250421T183019Z
UID:76671-1748646000-1748646000@mensroom.community
SUMMARY:Karaoke @ Barnaby's Lounge
DESCRIPTION:Come and join the fun @ Barnaby’s Lounge!Select from some of your favourite tunes\, get up and sing your heart out!From 11pm – Late – Bring your favourite songs\, your voice & good vibes!
URL:https://mensroom.community/event/karaoke-barnabys-lounge-20/
LOCATION:Barnaby’s Lounge\, 46 Robertson Street\, Hastings\, East Sussex\, TN34 1HL\, United Kingdom
CATEGORIES:Music
ATTACH;FMTTYPE=image/jpeg:https://mensroom.community/wp-content/uploads/2025/04/karaoke-at-barnabys-poster-95700-768x531-4B5U2c.jpg
END:VEVENT
BEGIN:VEVENT
DTSTART;TZID=Europe/London:20250523T230000
DTEND;TZID=Europe/London:20250523T230000
DTSTAMP:20260420T062127
CREATED:20250310T222550Z
LAST-MODIFIED:20250421T183012Z
UID:76670-1748041200-1748041200@mensroom.community
SUMMARY:Karaoke @ Barnaby's Lounge
DESCRIPTION:Come and join the fun @ Barnaby’s Lounge!Select from some of your favourite tunes\, get up and sing your heart out!From 11pm – Late – Bring your favourite songs\, your voice & good vibes!
URL:https://mensroom.community/event/karaoke-barnabys-lounge-19/
LOCATION:Barnaby’s Lounge\, 46 Robertson Street\, Hastings\, East Sussex\, TN34 1HL\, United Kingdom
CATEGORIES:Music
ATTACH;FMTTYPE=image/jpeg:https://mensroom.community/wp-content/uploads/2025/04/karaoke-at-barnabys-poster-95700-768x531-4B5U2c.jpg
END:VEVENT
BEGIN:VEVENT
DTSTART;TZID=Europe/London:20250516T230000
DTEND;TZID=Europe/London:20250516T230000
DTSTAMP:20260420T062127
CREATED:20250310T222527Z
LAST-MODIFIED:20250421T183012Z
UID:76664-1747436400-1747436400@mensroom.community
SUMMARY:Karaoke @ Barnaby's Lounge
DESCRIPTION:Come and join the fun @ Barnaby’s Lounge!Select from some of your favourite tunes\, get up and sing your heart out!From 11pm – Late – Bring your favourite songs\, your voice & good vibes!
URL:https://mensroom.community/event/karaoke-barnabys-lounge-18/
LOCATION:Barnaby’s Lounge\, 46 Robertson Street\, Hastings\, East Sussex\, TN34 1HL\, United Kingdom
CATEGORIES:Music
ATTACH;FMTTYPE=image/jpeg:https://mensroom.community/wp-content/uploads/2025/04/karaoke-at-barnabys-poster-95700-768x531-4B5U2c.jpg
END:VEVENT
BEGIN:VEVENT
DTSTART;TZID=Europe/London:20250509T230000
DTEND;TZID=Europe/London:20250509T230000
DTSTAMP:20260420T062127
CREATED:20250310T222526Z
LAST-MODIFIED:20250421T183011Z
UID:76663-1746831600-1746831600@mensroom.community
SUMMARY:Karaoke @ Barnaby's Lounge
DESCRIPTION:Come and join the fun @ Barnaby’s Lounge!Select from some of your favourite tunes\, get up and sing your heart out!From 11pm – Late – Bring your favourite songs\, your voice & good vibes!
URL:https://mensroom.community/event/karaoke-barnabys-lounge-17/
LOCATION:Barnaby’s Lounge\, 46 Robertson Street\, Hastings\, East Sussex\, TN34 1HL\, United Kingdom
CATEGORIES:Music
ATTACH;FMTTYPE=image/jpeg:https://mensroom.community/wp-content/uploads/2025/04/karaoke-at-barnabys-poster-95700-768x531-4B5U2c.jpg
END:VEVENT
BEGIN:VEVENT
DTSTART;TZID=Europe/London:20250502T230000
DTEND;TZID=Europe/London:20250502T230000
DTSTAMP:20260420T062127
CREATED:20250310T222524Z
LAST-MODIFIED:20250421T183011Z
UID:76662-1746226800-1746226800@mensroom.community
SUMMARY:Karaoke @ Barnaby's Lounge
DESCRIPTION:Come and join the fun @ Barnaby’s Lounge!Select from some of your favourite tunes\, get up and sing your heart out!From 11pm – Late – Bring your favourite songs\, your voice & good vibes!
URL:https://mensroom.community/event/karaoke-barnabys-lounge-16/
LOCATION:Barnaby’s Lounge\, 46 Robertson Street\, Hastings\, East Sussex\, TN34 1HL\, United Kingdom
CATEGORIES:Music
ATTACH;FMTTYPE=image/jpeg:https://mensroom.community/wp-content/uploads/2025/04/karaoke-at-barnabys-poster-95700-768x531-4B5U2c.jpg
END:VEVENT
BEGIN:VEVENT
DTSTART;TZID=Europe/London:20250425T230000
DTEND;TZID=Europe/London:20250425T230000
DTSTAMP:20260420T062127
CREATED:20250310T222523Z
LAST-MODIFIED:20250421T183010Z
UID:76661-1745622000-1745622000@mensroom.community
SUMMARY:Karaoke @ Barnaby's Lounge
DESCRIPTION:Come and join the fun @ Barnaby’s Lounge!Select from some of your favourite tunes\, get up and sing your heart out!From 11pm – Late – Bring your favourite songs\, your voice & good vibes!
URL:https://mensroom.community/event/karaoke-barnabys-lounge-15/
LOCATION:Barnaby’s Lounge\, 46 Robertson Street\, Hastings\, East Sussex\, TN34 1HL\, United Kingdom
CATEGORIES:Music
ATTACH;FMTTYPE=image/jpeg:https://mensroom.community/wp-content/uploads/2025/04/karaoke-at-barnabys-poster-95700-768x531-4B5U2c.jpg
END:VEVENT
BEGIN:VEVENT
DTSTART;TZID=Europe/London:20250315T170000
DTEND;TZID=Europe/London:20250315T193000
DTSTAMP:20260420T062127
CREATED:20250310T211314Z
LAST-MODIFIED:20250310T211314Z
UID:76623-1742058000-1742067000@mensroom.community
SUMMARY:The Coffee House Sessions
DESCRIPTION:Troubadour Jason McNiff and friends (his rotating band of violin\, double bass\, clarinet\, Mandola\, and more) pay homage to the  coffee shops of the 50s and 60s in London and New York. \nAn infusion of folk Americana with a shot of country blues every Saturday evening. \nFree Entry. \nRecreation of Greenwich Village in Robertson Street.
URL:https://mensroom.community/event/the-coffee-house-sessions/
LOCATION:Hanushka Coffee House\, 28-29 Robertson Street\, Hastings\, East Sussex\, TN34 1HT\, United Kingdom
CATEGORIES:Music
ATTACH;FMTTYPE=image/jpeg:https://mensroom.community/wp-content/uploads/2025/03/the-coffee-house-sessions-poster-124920-729x1024-1.jpg
END:VEVENT
END:VCALENDAR