BEGIN:VCALENDAR
VERSION:2.0
PRODID:-//Men&#039;s Room Hastings &amp; St Leonards - ECPv6.10.2//NONSGML v1.0//EN
CALSCALE:GREGORIAN
METHOD:PUBLISH
X-ORIGINAL-URL:https://mensroom.community
X-WR-CALDESC:Events for Men&#039;s Room Hastings &amp; St Leonards
REFRESH-INTERVAL;VALUE=DURATION:PT1H
X-Robots-Tag:noindex
X-PUBLISHED-TTL:PT1H
BEGIN:VTIMEZONE
TZID:Europe/London
BEGIN:DAYLIGHT
TZOFFSETFROM:+0000
TZOFFSETTO:+0100
TZNAME:BST
DTSTART:20250330T010000
END:DAYLIGHT
BEGIN:STANDARD
TZOFFSETFROM:+0100
TZOFFSETTO:+0000
TZNAME:GMT
DTSTART:20251026T010000
END:STANDARD
END:VTIMEZONE
BEGIN:VEVENT
DTSTART;TZID=Europe/London:20250719T100000
DTEND;TZID=Europe/London:20250719T110000
DTSTAMP:20260420T021835
CREATED:20250421T181145Z
LAST-MODIFIED:20250421T182947Z
UID:77090-1752919200-1752922800@mensroom.community
SUMMARY:Men Walk Talk - Hastings Walk & Talk
DESCRIPTION:Men– We’re talking to you!  \nWalk– It’s good for you\, your mental health and your physical health! \nTalk– Because there is more evidence to support talking over isolation!  \nTraditionally\, men often avoid seeking support but we can change this\, by providing that support in a more accessible and easy way. \nTogether\, we want to reduce the number of male suicides\, we want to provide a community of support for guys to know they are not alone and they can speak up.\nJoin Pip for a Men Walk Talk Hastings walk around Alexandra park.\nMeeting point is the WarMemorial\, which is located shortly after entering the park if you were walking away from Hastings train station. \nWhat three words – ///milk.dairy.tribal
URL:https://mensroom.community/event/men-walk-talk-hastings-walk-talk-7/
CATEGORIES:Walk and Talk
ATTACH;FMTTYPE=image/png:https://mensroom.community/wp-content/uploads/2025/04/menwalktalkevent-lMTECl.png
END:VEVENT
BEGIN:VEVENT
DTSTART;TZID=Europe/London:20250705T100000
DTEND;TZID=Europe/London:20250705T110000
DTSTAMP:20260420T021835
CREATED:20250421T181132Z
LAST-MODIFIED:20250421T182931Z
UID:77086-1751709600-1751713200@mensroom.community
SUMMARY:Men Walk Talk - Hastings Walk & Talk
DESCRIPTION:Men– We’re talking to you!  \nWalk– It’s good for you\, your mental health and your physical health! \nTalk– Because there is more evidence to support talking over isolation!  \nTraditionally\, men often avoid seeking support but we can change this\, by providing that support in a more accessible and easy way. \nTogether\, we want to reduce the number of male suicides\, we want to provide a community of support for guys to know they are not alone and they can speak up.\nJoin Pip for a Men Walk Talk Hastings walk around Alexandra park.\nMeeting point is the WarMemorial\, which is located shortly after entering the park if you were walking away from Hastings train station. \nWhat three words – ///milk.dairy.tribal
URL:https://mensroom.community/event/men-walk-talk-hastings-walk-talk-6/
CATEGORIES:Walk and Talk
ATTACH;FMTTYPE=image/png:https://mensroom.community/wp-content/uploads/2025/04/menwalktalkevent-lMTECl.png
END:VEVENT
BEGIN:VEVENT
DTSTART;TZID=Europe/London:20250621T100000
DTEND;TZID=Europe/London:20250621T110000
DTSTAMP:20260420T021835
CREATED:20250421T181127Z
LAST-MODIFIED:20250421T182929Z
UID:77082-1750500000-1750503600@mensroom.community
SUMMARY:Men Walk Talk - Hastings Walk & Talk
DESCRIPTION:Men– We’re talking to you!  \nWalk– It’s good for you\, your mental health and your physical health! \nTalk– Because there is more evidence to support talking over isolation!  \nTraditionally\, men often avoid seeking support but we can change this\, by providing that support in a more accessible and easy way. \nTogether\, we want to reduce the number of male suicides\, we want to provide a community of support for guys to know they are not alone and they can speak up.\nJoin Pip for a Men Walk Talk Hastings walk around Alexandra park.\nMeeting point is the WarMemorial\, which is located shortly after entering the park if you were walking away from Hastings train station. \nWhat three words – ///milk.dairy.tribal
URL:https://mensroom.community/event/men-walk-talk-hastings-walk-talk-5/
CATEGORIES:Walk and Talk
ATTACH;FMTTYPE=image/png:https://mensroom.community/wp-content/uploads/2025/04/menwalktalkevent-lMTECl.png
END:VEVENT
BEGIN:VEVENT
DTSTART;TZID=Europe/London:20250607T100000
DTEND;TZID=Europe/London:20250607T110000
DTSTAMP:20260420T021835
CREATED:20250421T181057Z
LAST-MODIFIED:20250421T182902Z
UID:77070-1749290400-1749294000@mensroom.community
SUMMARY:Men Walk Talk - Hastings Walk & Talk
DESCRIPTION:Men– We’re talking to you!  \nWalk– It’s good for you\, your mental health and your physical health! \nTalk– Because there is more evidence to support talking over isolation!  \nTraditionally\, men often avoid seeking support but we can change this\, by providing that support in a more accessible and easy way. \nTogether\, we want to reduce the number of male suicides\, we want to provide a community of support for guys to know they are not alone and they can speak up.\nJoin Pip for a Men Walk Talk Hastings walk around Alexandra park.\nMeeting point is the WarMemorial\, which is located shortly after entering the park if you were walking away from Hastings train station. \nWhat three words – ///milk.dairy.tribal
URL:https://mensroom.community/event/men-walk-talk-hastings-walk-talk-4/
CATEGORIES:Walk and Talk
ATTACH;FMTTYPE=image/png:https://mensroom.community/wp-content/uploads/2025/04/menwalktalkevent-lMTECl.png
END:VEVENT
BEGIN:VEVENT
DTSTART;TZID=Europe/London:20250524T100000
DTEND;TZID=Europe/London:20250524T110000
DTSTAMP:20260420T021835
CREATED:20250421T181051Z
LAST-MODIFIED:20250421T182859Z
UID:77066-1748080800-1748084400@mensroom.community
SUMMARY:Men Walk Talk - Hastings Walk & Talk
DESCRIPTION:Men– We’re talking to you!  \nWalk– It’s good for you\, your mental health and your physical health! \nTalk– Because there is more evidence to support talking over isolation!  \nTraditionally\, men often avoid seeking support but we can change this\, by providing that support in a more accessible and easy way. \nTogether\, we want to reduce the number of male suicides\, we want to provide a community of support for guys to know they are not alone and they can speak up.\nJoin Pip for a Men Walk Talk Hastings walk around Alexandra park.\nMeeting point is the WarMemorial\, which is located shortly after entering the park if you were walking away from Hastings train station. \nWhat three words – ///milk.dairy.tribal
URL:https://mensroom.community/event/men-walk-talk-hastings-walk-talk-3/
CATEGORIES:Walk and Talk
ATTACH;FMTTYPE=image/png:https://mensroom.community/wp-content/uploads/2025/04/menwalktalkevent-lMTECl.png
END:VEVENT
BEGIN:VEVENT
DTSTART;TZID=Europe/London:20250510T100000
DTEND;TZID=Europe/London:20250510T110000
DTSTAMP:20260420T021835
CREATED:20250421T181036Z
LAST-MODIFIED:20250421T182847Z
UID:77057-1746871200-1746874800@mensroom.community
SUMMARY:Men Walk Talk - Hastings Walk & Talk
DESCRIPTION:Men– We’re talking to you!  \nWalk– It’s good for you\, your mental health and your physical health! \nTalk– Because there is more evidence to support talking over isolation!  \nTraditionally\, men often avoid seeking support but we can change this\, by providing that support in a more accessible and easy way. \nTogether\, we want to reduce the number of male suicides\, we want to provide a community of support for guys to know they are not alone and they can speak up.\nJoin Pip for a Men Walk Talk Hastings walk around Alexandra park.\nMeeting point is the WarMemorial\, which is located shortly after entering the park if you were walking away from Hastings train station. \nWhat three words – ///milk.dairy.tribal
URL:https://mensroom.community/event/men-walk-talk-hastings-walk-talk-2/
CATEGORIES:Walk and Talk
ATTACH;FMTTYPE=image/png:https://mensroom.community/wp-content/uploads/2025/04/menwalktalkevent-lMTECl.png
END:VEVENT
BEGIN:VEVENT
DTSTART;TZID=Europe/London:20250426T100000
DTEND;TZID=Europe/London:20250426T110000
DTSTAMP:20260420T021835
CREATED:20250421T181028Z
LAST-MODIFIED:20250421T182835Z
UID:77053-1745661600-1745665200@mensroom.community
SUMMARY:Men Walk Talk - Hastings Walk & Talk
DESCRIPTION:Men– We’re talking to you!  \nWalk– It’s good for you\, your mental health and your physical health! \nTalk– Because there is more evidence to support talking over isolation!  \nTraditionally\, men often avoid seeking support but we can change this\, by providing that support in a more accessible and easy way. \nTogether\, we want to reduce the number of male suicides\, we want to provide a community of support for guys to know they are not alone and they can speak up.\nJoin Pip for a Men Walk Talk Hastings walk around Alexandra park.\nMeeting point is the WarMemorial\, which is located shortly after entering the park if you were walking away from Hastings train station. \nWhat three words – ///milk.dairy.tribal
URL:https://mensroom.community/event/men-walk-talk-hastings-walk-talk/
CATEGORIES:Walk and Talk
ATTACH;FMTTYPE=image/png:https://mensroom.community/wp-content/uploads/2025/04/menwalktalkevent-lMTECl.png
END:VEVENT
END:VCALENDAR